BEGIN:VCALENDAR
VERSION:2.0
PRODID:-//wp-events-plugin.com//7.2.3.1//EN
TZID:America/Los_Angeles
X-WR-TIMEZONE:America/Los_Angeles
BEGIN:VEVENT
UID:1091@thebakedpotato.com
DTSTART;TZID=America/Los_Angeles:20200627T183000
DTEND;TZID=America/Los_Angeles:20200627T233000
DTSTAMP:20200628T020424Z
URL:https://www.thebakedpotato.com/events/albert-lee-4/
SUMMARY:Albert Lee - The Baked Potato - 06/27/2020 - 6:30 pm - 11:30 pm
DESCRIPTION:Saturday\, June 27\, 2020\nAlbert Lee\nAlbert Lee - Guitar/Voc/
 Keys\nJT Thomas - Keys/Vocals\nDavid Chamberlain - Bass/Voc\nJason Smith -
  Drums\n\n$45.00 In Person Show\n$10.00 Patio\n\nFor Livestream Click Here
  $7.00\n"Livestream"and 1st set start @ 7:00 PM pst.
ATTACH;FMTTYPE=image/jpeg:https://es5tphr8wqq.exactdn.com/wp-content/uploa
 ds/2017/10/AlbertLee.jpg?strip=all
LOCATION:The Baked Potato
GEO:34.1366405;-118.36314909999999
X-APPLE-STRUCTURED-LOCATION;VALUE=URI;X-ADDRESS=3787 Cahuenga Blvd.\, Studi
 o City\, CA\, 91604\, United States;X-APPLE-RADIUS=100;X-TITLE=The Baked P
 otato:geo:34.1366405,-118.36314909999999
END:VEVENT
BEGIN:VTIMEZONE
TZID:America/Los_Angeles
X-LIC-LOCATION:America/Los_Angeles
BEGIN:DAYLIGHT
DTSTART:20200308T030000
TZOFFSETFROM:-0800
TZOFFSETTO:-0700
TZNAME:PDT
END:DAYLIGHT
END:VTIMEZONE
END:VCALENDAR