BEGIN:VCALENDAR
VERSION:2.0
PRODID:-//wp-events-plugin.com//7.2.3.1//EN
TZID:America/Los_Angeles
X-WR-TIMEZONE:America/Los_Angeles
BEGIN:VEVENT
UID:2727@thebakedpotato.com
DTSTART;TZID=America/Los_Angeles:20251031T200000
DTEND;TZID=America/Los_Angeles:20251101T010000
DTSTAMP:20251012T031009Z
URL:https://www.thebakedpotato.com/events/banned-from-utopia-october-31-20
 25/
SUMMARY:BANNED from UTOPIA - Friday\, October 31\, 2025 - The Baked Potato 
 - 10/31/2025 - 11/01/2025 - 8:00 pm - 1:00 am
DESCRIPTION:Friday Night\, October 31\, 2025 @ 8pm &amp\; 10pm PST.\nBANNED
  from UTOPIA\nRAY WHITE …VOCALS/GUITAR\nSCOTT THUNES …BASS\nCHAD WACKE
 RMAN …DRUMS\nJAMIE KIME …GUITAR\nNICK CHARIN …VOCALS/KEYS\nRONNIE MA
 NGANO …GUITAR\nPlus Very Special Guests..\n$55.00 1st Set Inside Seating
 \n$50.00 2nd Set Inside Seating\n$15.00 Patio Seating The PATIO is a "LIVE
  VIDEO CONCERT"\nyou are NOT inside the Club\n$4.25 PROCESSING FEE ON ALL 
 TICKETS BEGINNING AUG 2024
ATTACH;FMTTYPE=image/jpeg:https://es5tphr8wqq.exactdn.com/wp-content/uploa
 ds/2025/07/BANNED-2025-HALLOWEEN-NEW.png?strip=all
LOCATION:The Baked Potato
GEO:34.1366405;-118.36314909999999
X-APPLE-STRUCTURED-LOCATION;VALUE=URI;X-ADDRESS=3787 Cahuenga Blvd.\, Studi
 o City\, CA\, 91604\, United States;X-APPLE-RADIUS=100;X-TITLE=The Baked P
 otato:geo:34.1366405,-118.36314909999999
END:VEVENT
BEGIN:VTIMEZONE
TZID:America/Los_Angeles
X-LIC-LOCATION:America/Los_Angeles
BEGIN:DAYLIGHT
DTSTART:20250309T030000
TZOFFSETFROM:-0800
TZOFFSETTO:-0700
TZNAME:PDT
END:DAYLIGHT
END:VTIMEZONE
END:VCALENDAR