BEGIN:VCALENDAR
VERSION:2.0
PRODID:-//wp-events-plugin.com//7.2.3.1//EN
TZID:America/Los_Angeles
X-WR-TIMEZONE:America/Los_Angeles
BEGIN:VEVENT
UID:2393@thebakedpotato.com
DTSTART;TZID=America/Los_Angeles:20241127T200000
DTEND;TZID=America/Los_Angeles:20241128T000000
DTSTAMP:20241127T225642Z
URL:https://www.thebakedpotato.com/events/blanco-diablo-november-27-2024/
SUMMARY:Blanco Diablo - Wednesday\, November 27\, 2024 - The Baked Potato -
  11/27/2024 - 11/28/2024 - 8:00 pm - 12:00 am
DESCRIPTION:Wednesday Night\, November 27\, 2024 @ 8pm &amp\; 10pm PST.\nBL
 ANCO DIABLO\nSUPERSTAR BAND..\nDoug Webb …Sax\nJamie Kime …Guitar\nMit
 ch Forman …Keys\nFausto Cuevas …Perc\nJanek Gwizdala …Bass\nAndy San
 esi …Drums\n$20.00 Inside Seating\n$15.00 Patio Seating The PATIO is a "
 LIVE VIDEO CONCERT"\nyou are NOT inside the Club\n$4.25 PROCESSING FEE ON 
 ALL TICKETS BEGINNING AUG 2024
ATTACH;FMTTYPE=image/jpeg:https://es5tphr8wqq.exactdn.com/wp-content/uploa
 ds/2024/10/diablo-NEW-Nov-24.jpeg?strip=all
LOCATION:The Baked Potato
GEO:34.1366405;-118.36314909999999
X-APPLE-STRUCTURED-LOCATION;VALUE=URI;X-ADDRESS=3787 Cahuenga Blvd.\, Studi
 o City\, CA\, 91604\, United States;X-APPLE-RADIUS=100;X-TITLE=The Baked P
 otato:geo:34.1366405,-118.36314909999999
END:VEVENT
BEGIN:VTIMEZONE
TZID:America/Los_Angeles
X-LIC-LOCATION:America/Los_Angeles
BEGIN:STANDARD
DTSTART:20241103T010000
TZOFFSETFROM:-0700
TZOFFSETTO:-0800
TZNAME:PST
END:STANDARD
END:VTIMEZONE
END:VCALENDAR