BEGIN:VCALENDAR
VERSION:2.0
PRODID:-//wp-events-plugin.com//7.2.3.1//EN
TZID:America/Los_Angeles
X-WR-TIMEZONE:America/Los_Angeles
BEGIN:VEVENT
UID:2563@thebakedpotato.com
DTSTART;TZID=America/Los_Angeles:20250519T200000
DTEND;TZID=America/Los_Angeles:20250520T010000
DTSTAMP:20250417T151304Z
URL:https://www.thebakedpotato.com/events/doug-webb-band-may-19-2025/
SUMMARY:DOUG WEBB East - West BAND - Monday\, May 19\, 2025 - The Baked Pot
 ato - 05/19/2025 - 05/20/2025 - 8:00 pm - 1:00 am
DESCRIPTION:Monday Night\, May 19\, 2025 @ 8pm &amp\; 10pm PST.\nDOUG WEBB 
 East - West BAND\nDoug Webb - Saxophone from Dennis Miller Show\nAndy Farb
 er - Saxophone from Wynton Marsalis \nEric Revis - UpRight Bass from Branf
 ord Marsalis\nMitch Forman - Keys from Gerry Mulligan and Stan Getz\nCharl
 es Ruggiero - Drums from Monk and Me\n$25.00 Inside Seating\n$15.00 Patio 
 Seating The PATIO is a "LIVE VIDEO CONCERT"\nyou are NOT inside the Club\n
 $4.25 PROCESSING FEE ON ALL TICKETS BEGINNING AUG 2024
ATTACH;FMTTYPE=image/jpeg:https://es5tphr8wqq.exactdn.com/wp-content/uploa
 ds/2025/03/Doug-Webb.jpeg?strip=all
LOCATION:The Baked Potato
GEO:34.1366405;-118.36314909999999
X-APPLE-STRUCTURED-LOCATION;VALUE=URI;X-ADDRESS=3787 Cahuenga Blvd.\, Studi
 o City\, CA\, 91604\, United States;X-APPLE-RADIUS=100;X-TITLE=The Baked P
 otato:geo:34.1366405,-118.36314909999999
END:VEVENT
BEGIN:VTIMEZONE
TZID:America/Los_Angeles
X-LIC-LOCATION:America/Los_Angeles
BEGIN:DAYLIGHT
DTSTART:20250309T030000
TZOFFSETFROM:-0800
TZOFFSETTO:-0700
TZNAME:PDT
END:DAYLIGHT
END:VTIMEZONE
END:VCALENDAR