BEGIN:VCALENDAR
VERSION:2.0
PRODID:-//wp-events-plugin.com//7.2.3.1//EN
TZID:America/Los_Angeles
X-WR-TIMEZONE:America/Los_Angeles
BEGIN:VEVENT
UID:2512@thebakedpotato.com
DTSTART;TZID=America/Los_Angeles:20250329T200000
DTEND;TZID=America/Los_Angeles:20250330T010000
DTSTAMP:20250328T183306Z
URL:https://www.thebakedpotato.com/events/ernie-watts-group-march-29-2025/
SUMMARY:ERNIE WATTS GROUP - Saturday\, March 29\, 2025 - The Baked Potato -
  03/29/2025 - 03/30/2025 - 8:00 pm - 1:00 am
DESCRIPTION:Saturday Jazz Night\, March 29\, 2025 @ 8pm &amp\; 10pm PST.\nE
 RNIE WATTS GROUP\nERNIE WATTS …SAXOPHONE Jazz Legand\nMARC SEALES …PIA
 NO\nBRUCE LETT …UpRIGHT BASS\nBOB LEATHERBARROW …DRUMS\n$40.00 Inside 
 Seating\n$20.00 Patio Seating The PATIO is a "LIVE VIDEO CONCERT"\nyou are
  NOT inside the Club\n$4.25 PROCESSING FEE ON ALL TICKETS BEGINNING AUG 20
 24
ATTACH;FMTTYPE=image/jpeg:https://es5tphr8wqq.exactdn.com/wp-content/uploa
 ds/2021/04/ERNIE-WATTS.jpg?strip=all
LOCATION:The Baked Potato
GEO:34.1366405;-118.36314909999999
X-APPLE-STRUCTURED-LOCATION;VALUE=URI;X-ADDRESS=3787 Cahuenga Blvd.\, Studi
 o City\, CA\, 91604\, United States;X-APPLE-RADIUS=100;X-TITLE=The Baked P
 otato:geo:34.1366405,-118.36314909999999
END:VEVENT
BEGIN:VTIMEZONE
TZID:America/Los_Angeles
X-LIC-LOCATION:America/Los_Angeles
BEGIN:DAYLIGHT
DTSTART:20250309T030000
TZOFFSETFROM:-0800
TZOFFSETTO:-0700
TZNAME:PDT
END:DAYLIGHT
END:VTIMEZONE
END:VCALENDAR