BEGIN:VCALENDAR
VERSION:2.0
PRODID:-//wp-events-plugin.com//7.2.3.1//EN
TZID:America/Los_Angeles
X-WR-TIMEZONE:America/Los_Angeles
BEGIN:VEVENT
UID:2626@thebakedpotato.com
DTSTART;TZID=America/Los_Angeles:20250721T200000
DTEND;TZID=America/Los_Angeles:20250722T010000
DTSTAMP:20250722T032125Z
URL:https://www.thebakedpotato.com/events/hadrien-feraud-band-july-21-2025
 /
SUMMARY:HADRIEN FERAUD BAND - Monday\, July 21\, 2025 - The Baked Potato - 
 07/21/2025 - 07/22/2025 - 8:00 pm - 1:00 am
DESCRIPTION:Monday Night\, July 21\, 2025 @ 8pm &amp\; 10pm PST.\nHADRIEN F
 ERAUD BAND\nAARON JANIK - TRUMPET\nSAM BARSH - KEYS\nTARON LOCKETT - DRUMS
 \nHORACE BRAY - GUITAR\nHADRIEN FERAUD - BASS\nAllstar Jammers\n$25.00 1st
  Set Inside Seating\n$20.00 2nd Set Inside Seating\n$15.00 Patio Seating T
 he PATIO is a "LIVE VIDEO CONCERT"\nyou are NOT inside the Club\n$4.25 PRO
 CESSING FEE ON ALL TICKETS BEGINNING AUG 2024
ATTACH;FMTTYPE=image/jpeg:https://es5tphr8wqq.exactdn.com/wp-content/uploa
 ds/2025/06/hadrien-july-2025.jpg?strip=all
LOCATION:The Baked Potato
GEO:34.1366405;-118.36314909999999
X-APPLE-STRUCTURED-LOCATION;VALUE=URI;X-ADDRESS=3787 Cahuenga Blvd.\, Studi
 o City\, CA\, 91604\, United States;X-APPLE-RADIUS=100;X-TITLE=The Baked P
 otato:geo:34.1366405,-118.36314909999999
END:VEVENT
BEGIN:VTIMEZONE
TZID:America/Los_Angeles
X-LIC-LOCATION:America/Los_Angeles
BEGIN:DAYLIGHT
DTSTART:20250309T030000
TZOFFSETFROM:-0800
TZOFFSETTO:-0700
TZNAME:PDT
END:DAYLIGHT
END:VTIMEZONE
END:VCALENDAR