BEGIN:VCALENDAR
VERSION:2.0
PRODID:-//wp-events-plugin.com//7.2.3.1//EN
TZID:America/Los_Angeles
X-WR-TIMEZONE:America/Los_Angeles
BEGIN:VEVENT
UID:2222@thebakedpotato.com
DTSTART;TZID=America/Los_Angeles:20240610T200000
DTEND;TZID=America/Los_Angeles:20240611T000000
DTSTAMP:20240610T232335Z
URL:https://www.thebakedpotato.com/events/hadrien-feraud-group-june-10-202
 4/
SUMMARY:HADRIEN FERAUD GROUP - Monday\, June 10\, 2024 - The Baked Potato -
  06/10/2024 - 06/11/2024 - 8:00 pm - 12:00 am
DESCRIPTION:Monday Night\, June 10\, 2024 @ 8pm &amp\; 10pm PST.\nHADRIEN F
 ERAUD GROUP\nRobert "SPUT" Searight - Drums from TOTO\nBob Reynolds - Sax 
 from SNARKY PUPPY\nNate Werth - Perc.\nRuslan Sirota - Keys\nChris Fishman
  - Keys\nHadrien Feraud - Bass\n$20.00 Inside Seating\n$15.00 Patio Seatin
 g WAIT! The PATIO is a "LIVE VIDEO CONCERT STREAM"\nyou are NOT inside the
  Club\n$3.75 PROCESSING FEE ON ALL TICKETS BEGINNING OCT 2023
ATTACH;FMTTYPE=image/jpeg:https://es5tphr8wqq.exactdn.com/wp-content/uploa
 ds/2022/01/hadrien.F..png?strip=all
LOCATION:The Baked Potato
GEO:34.1366405;-118.36314909999999
X-APPLE-STRUCTURED-LOCATION;VALUE=URI;X-ADDRESS=3787 Cahuenga Blvd.\, Studi
 o City\, CA\, 91604\, United States;X-APPLE-RADIUS=100;X-TITLE=The Baked P
 otato:geo:34.1366405,-118.36314909999999
END:VEVENT
BEGIN:VTIMEZONE
TZID:America/Los_Angeles
X-LIC-LOCATION:America/Los_Angeles
BEGIN:DAYLIGHT
DTSTART:20240310T030000
TZOFFSETFROM:-0800
TZOFFSETTO:-0700
TZNAME:PDT
END:DAYLIGHT
END:VTIMEZONE
END:VCALENDAR