BEGIN:VCALENDAR
VERSION:2.0
PRODID:-//wp-events-plugin.com//7.2.3.1//EN
TZID:America/Los_Angeles
X-WR-TIMEZONE:America/Los_Angeles
BEGIN:VEVENT
UID:2571@thebakedpotato.com
DTSTART;TZID=America/Los_Angeles:20250528T200000
DTEND;TZID=America/Los_Angeles:20250529T010000
DTSTAMP:20250420T020740Z
URL:https://www.thebakedpotato.com/events/jack-shit-may-28-2025/
SUMMARY:JACK SHIT - Wednesday\, May 28\, 2025 - The Baked Potato - 05/28/20
 25 - 05/29/2025 - 8:00 pm - 1:00 am
DESCRIPTION:Wednesday Night\, May 28\, 2025 @ 8pm PST.\nTHE RETURN…\nTHE 
 #1 BAR BAND IN L.A.\nJACK SHIT\nVAL McCALLUM on GUITAR\nDAVIE FARAGHER on 
 DA BASS\nPETE THOMAS on DRUMS\nENTERTAINMENT PURE and SIMPLE..\nONE LONG S
 HOW\n$65.00 Inside Seating One Long Show\n$20.00 Patio Seating The PATIO i
 s a "LIVE VIDEO CONCERT"\nyou are NOT inside the Club\n$4.25 PROCESSING FE
 E ON ALL TICKETS BEGINNING AUG 2024
ATTACH;FMTTYPE=image/jpeg:https://es5tphr8wqq.exactdn.com/wp-content/uploa
 ds/2021/06/jack-shit-pic.jpg?strip=all
LOCATION:The Baked Potato
GEO:34.1366405;-118.36314909999999
X-APPLE-STRUCTURED-LOCATION;VALUE=URI;X-ADDRESS=3787 Cahuenga Blvd.\, Studi
 o City\, CA\, 91604\, United States;X-APPLE-RADIUS=100;X-TITLE=The Baked P
 otato:geo:34.1366405,-118.36314909999999
END:VEVENT
BEGIN:VTIMEZONE
TZID:America/Los_Angeles
X-LIC-LOCATION:America/Los_Angeles
BEGIN:DAYLIGHT
DTSTART:20250309T030000
TZOFFSETFROM:-0800
TZOFFSETTO:-0700
TZNAME:PDT
END:DAYLIGHT
END:VTIMEZONE
END:VCALENDAR