BEGIN:VCALENDAR
VERSION:2.0
PRODID:-//wp-events-plugin.com//7.2.3.1//EN
TZID:America/Los_Angeles
X-WR-TIMEZONE:America/Los_Angeles
BEGIN:VEVENT
UID:2803@thebakedpotato.com
DTSTART;TZID=America/Los_Angeles:20260118T200000
DTEND;TZID=America/Los_Angeles:20260119T010000
DTSTAMP:20251201T035557Z
URL:https://www.thebakedpotato.com/events/january-18-2026/
SUMMARY:JAMIE KIME GROUP - Sunday\, January 18\, 2026 - The Baked Potato - 
 01/18/2026 - 01/19/2026 - 8:00 pm - 1:00 am
DESCRIPTION:Sunday Night\, January 18\, 2026 @ 8pm &amp\; 10pm PST.\nJAMIE 
 KIME GROUP\nDANNY CAREY …DRUMS from TOOL\nPETE GRIFFIN …BASS\nMATT ROH
 DE …KEYS\nANDY SENESI …PERCUSSION\nJAMIE KIME …GUITAR\nALLSTAR MUSIC
 .. \n$35.00 1st Set Inside Seating\n$30.00 2nd Set Inside Seating\n$15.00 
 Patio Seating The PATIO is a "LIVE VIDEO CONCERT"\nyou are NOT inside the 
 Club\n$5.25 PROCESSING FEE ON ALL TICKETS BEGINNING AUG 2024
ATTACH;FMTTYPE=image/jpeg:https://es5tphr8wqq.exactdn.com/wp-content/uploa
 ds/2025/11/JAIME-KIME-G-1.18.26.jpg?strip=all
LOCATION:The Baked Potato
GEO:34.1366405;-118.36314909999999
X-APPLE-STRUCTURED-LOCATION;VALUE=URI;X-ADDRESS=3787 Cahuenga Blvd.\, Studi
 o City\, CA\, 91604\, United States;X-APPLE-RADIUS=100;X-TITLE=The Baked P
 otato:geo:34.1366405,-118.36314909999999
END:VEVENT
BEGIN:VTIMEZONE
TZID:America/Los_Angeles
X-LIC-LOCATION:America/Los_Angeles
BEGIN:STANDARD
DTSTART:20251102T010000
TZOFFSETFROM:-0700
TZOFFSETTO:-0800
TZNAME:PST
END:STANDARD
END:VTIMEZONE
END:VCALENDAR