BEGIN:VCALENDAR
VERSION:2.0
PRODID:-//wp-events-plugin.com//7.2.3.1//EN
TZID:America/Los_Angeles
X-WR-TIMEZONE:America/Los_Angeles
BEGIN:VEVENT
UID:2730@thebakedpotato.com
DTSTART;TZID=America/Los_Angeles:20251102T200000
DTEND;TZID=America/Los_Angeles:20251103T010000
DTSTAMP:20251011T014815Z
URL:https://www.thebakedpotato.com/events/jim-foxs-guitar-hang-november-2-
 2025/
SUMMARY:JIM FOX’S GUITAR HANG - Sunday\, November 2\, 2025 - The Baked Po
 tato - 11/02/2025 - 11/03/2025 - 8:00 pm - 1:00 am
DESCRIPTION:Sunday Night\, November 2\, 2025 @ 8pm &amp\; 10pm PST.\nJIM FO
 X’S GUITAR HANG\nfeaturing..\nDEAN PARKS - GUITAR\nJIM FOX - GUITAR\nJOH
 N FERRARO - DRUMS\nTREY HENRY - UpRIGHT/ELECTRIC BASS\n$25.00 1st Set Insi
 de Seating\n$20.00 2nd Set Inside Seating\n$15.00 Patio Seating The PATIO 
 is a "LIVE VIDEO CONCERT"\nyou are NOT inside the Club\n$4.25 PROCESSING F
 EE ON ALL TICKETS BEGINNING AUG 2024
ATTACH;FMTTYPE=image/jpeg:https://es5tphr8wqq.exactdn.com/wp-content/uploa
 ds/2025/09/Jimanddeanbluviolet.jpg?strip=all
LOCATION:The Baked Potato
GEO:34.1366405;-118.36314909999999
X-APPLE-STRUCTURED-LOCATION;VALUE=URI;X-ADDRESS=3787 Cahuenga Blvd.\, Studi
 o City\, CA\, 91604\, United States;X-APPLE-RADIUS=100;X-TITLE=The Baked P
 otato:geo:34.1366405,-118.36314909999999
END:VEVENT
BEGIN:VTIMEZONE
TZID:America/Los_Angeles
X-LIC-LOCATION:America/Los_Angeles
BEGIN:STANDARD
DTSTART:20251102T010000
TZOFFSETFROM:-0700
TZOFFSETTO:-0800
TZNAME:PST
END:STANDARD
END:VTIMEZONE
END:VCALENDAR