BEGIN:VCALENDAR
VERSION:2.0
PRODID:-//wp-events-plugin.com//7.2.3.1//EN
TZID:America/Los_Angeles
X-WR-TIMEZONE:America/Los_Angeles
BEGIN:VEVENT
UID:1526@thebakedpotato.com
DTSTART;TZID=America/Los_Angeles:20220701T200000
DTEND;TZID=America/Los_Angeles:20220702T000000
DTSTAMP:20220702T013107Z
URL:https://www.thebakedpotato.com/events/luis-conte-band-friday-july-1-20
 22/
SUMMARY:LUIS CONTE BAND - Friday\, July 1\, 2022 - The Baked Potato - 07/01
 /2022 - 07/02/2022 - 8:00 pm - 12:00 am
DESCRIPTION:Friday Night\, July 1\, 2022 @ 8pm &amp\; 10pm PST.\nLUIS CONTE
  BAND\nALBERTO SALAS …KEYS\nGILBERTO TORRES …FLUTE/VOCALS\nRIGOBERTO L
 OPEZ …BASS\nKEVIN RICARD …PERC\nLUIS CONTE …PERC &amp\;amp\; LEADER\
 nTRADITIONAL CUBAN JAZZ..\n$25.00 Inside Seating\n$15.00 Patio Seating\n$3
 .25 PROCESSING FEE ON ALL TICKETS BEGINNING APRIL 2020
ATTACH;FMTTYPE=image/jpeg:https://es5tphr8wqq.exactdn.com/wp-content/uploa
 ds/2022/05/luisconte840.jpg?strip=all
LOCATION:The Baked Potato
GEO:34.1366405;-118.36314909999999
X-APPLE-STRUCTURED-LOCATION;VALUE=URI;X-ADDRESS=3787 Cahuenga Blvd.\, Studi
 o City\, CA\, 91604\, United States;X-APPLE-RADIUS=100;X-TITLE=The Baked P
 otato:geo:34.1366405,-118.36314909999999
END:VEVENT
BEGIN:VTIMEZONE
TZID:America/Los_Angeles
X-LIC-LOCATION:America/Los_Angeles
BEGIN:DAYLIGHT
DTSTART:20220313T030000
TZOFFSETFROM:-0800
TZOFFSETTO:-0700
TZNAME:PDT
END:DAYLIGHT
END:VTIMEZONE
END:VCALENDAR