BEGIN:VCALENDAR
VERSION:2.0
PRODID:-//wp-events-plugin.com//7.2.3.1//EN
TZID:America/Los_Angeles
X-WR-TIMEZONE:America/Los_Angeles
BEGIN:VEVENT
UID:2535@thebakedpotato.com
DTSTART;TZID=America/Los_Angeles:20250415T200000
DTEND;TZID=America/Los_Angeles:20250416T010000
DTSTAMP:20250415T220632Z
URL:https://www.thebakedpotato.com/events/scott-kinsey-group-april-15-2025
 /
SUMMARY:SCOTT KINSEY GROUP - Tuesday\, April 15\, 2025 - The Baked Potato -
  04/15/2025 - 04/16/2025 - 8:00 pm - 1:00 am
DESCRIPTION:Tuesday Night\, April 15\, 2025 @ 8pm &amp\; 10pm PST.\nSCOTT K
 INSEY GROUP\nSCOTT KINSEY …KEYS\nBOB REYNOLDS - Saxophone from Snarky Pu
 ppy\nFRANCISCO FATTORUSO - BASS\n"SPUT" SEARIGHT -- DRUMS from Ghost-Note
ATTACH;FMTTYPE=image/jpeg:https://es5tphr8wqq.exactdn.com/wp-content/uploa
 ds/2025/03/Kimsey-April-25-New.jpg?strip=all
LOCATION:The Baked Potato
GEO:34.1366405;-118.36314909999999
X-APPLE-STRUCTURED-LOCATION;VALUE=URI;X-ADDRESS=3787 Cahuenga Blvd.\, Studi
 o City\, CA\, 91604\, United States;X-APPLE-RADIUS=100;X-TITLE=The Baked P
 otato:geo:34.1366405,-118.36314909999999
END:VEVENT
BEGIN:VTIMEZONE
TZID:America/Los_Angeles
X-LIC-LOCATION:America/Los_Angeles
BEGIN:DAYLIGHT
DTSTART:20250309T030000
TZOFFSETFROM:-0800
TZOFFSETTO:-0700
TZNAME:PDT
END:DAYLIGHT
END:VTIMEZONE
END:VCALENDAR