BEGIN:VCALENDAR
VERSION:2.0
PRODID:-//wp-events-plugin.com//7.2.3.1//EN
TZID:America/Los_Angeles
X-WR-TIMEZONE:America/Los_Angeles
BEGIN:VEVENT
UID:2097@thebakedpotato.com
DTSTART;TZID=America/Los_Angeles:20240206T183000
DTEND;TZID=America/Los_Angeles:20240207T000000
DTSTAMP:20240126T030248Z
URL:https://www.thebakedpotato.com/events/showcase-february-6-2024/
SUMMARY:6 BAND SHOWCASE - Tuesday\, February 6\, 2024 - The Baked Potato - 
 02/06/2024 - 02/07/2024 - 6:30 pm - 12:00 am
DESCRIPTION:Tuesday Night\, February 6\, 2024 @ 6:30pm\, 7:15pm\, 8pm\, 9pm
 \, 10pm &amp\; 11pm PST.\n6 BAND SHOWCASE\n6:30 – JAMES CARRINGTON\n7:15
  – AUSTIN THOMASON\n8:00 – NOTHIN’ PERSONAL\nJUSTIN RANDI …GUITAR/
 VOCALS\nLEAH RANDI …BASS/VOCALS\nCHARLES RUGGIERO …DRUMS\n9:00 – NO 
 FILTER\n10:00 – BRANDON McCULLOCH BAND\n11:00 – PORTER BLIQUEZ\n$15.00
  Inside Seating ONE COVER Stay ALL Night\n$3.75 PROCESSING FEE ON ALL TICK
 ETS BEGINNING OCT 2023
ATTACH;FMTTYPE=image/jpeg:https://es5tphr8wqq.exactdn.com/wp-content/uploa
 ds/2023/11/Showcase-FEBRUARY-2024.jpeg?strip=all
LOCATION:The Baked Potato
GEO:34.1366405;-118.36314909999999
X-APPLE-STRUCTURED-LOCATION;VALUE=URI;X-ADDRESS=3787 Cahuenga Blvd.\, Studi
 o City\, CA\, 91604\, United States;X-APPLE-RADIUS=100;X-TITLE=The Baked P
 otato:geo:34.1366405,-118.36314909999999
END:VEVENT
BEGIN:VTIMEZONE
TZID:America/Los_Angeles
X-LIC-LOCATION:America/Los_Angeles
BEGIN:STANDARD
DTSTART:20231105T010000
TZOFFSETFROM:-0700
TZOFFSETTO:-0800
TZNAME:PST
END:STANDARD
END:VTIMEZONE
END:VCALENDAR