BEGIN:VCALENDAR
VERSION:2.0
PRODID:-//wp-events-plugin.com//7.2.3.1//EN
TZID:America/Los_Angeles
X-WR-TIMEZONE:America/Los_Angeles
BEGIN:VEVENT
UID:2465@thebakedpotato.com
DTSTART;TZID=America/Los_Angeles:20250214T200000
DTEND;TZID=America/Los_Angeles:20250215T010000
DTSTAMP:20250214T234331Z
URL:https://www.thebakedpotato.com/events/the-jerry-vivino-allstar-jazz-ba
 nd-february-14-2025/
SUMMARY:THE JERRY VIVINO ALLSTAR JAZZ BAND - Friday\, February 14\, 2025 - 
 The Baked Potato - 02/14/2025 - 02/15/2025 - 8:00 pm - 1:00 am
DESCRIPTION:Friday Valentine's Night\, February 14\, 2025 @ 8pm &amp\; 10pm
  PST.\nFROM THE CONAN O’BRIAN SHOW\nTHE JERRY VIVINO\nALLSTAR JAZZ BAND\
 nJerry Vivino... sax/vocals\nAndy Langham...keys\nBernie Dresel...drums\nJ
 ohn Leftwich …bass\nPlus Special Guest…\nJAZZZ…JAZZZ…JAZZZ\n$35.00
  1st Set Inside Seating\n$30.00 2nd Set Inside Seating\n$20.00 Patio Seati
 ng The PATIO is a "LIVE VIDEO CONCERT"\nyou are NOT inside the Club\n$4.25
  PROCESSING FEE ON ALL TICKETS BEGINNING AUG 2024
ATTACH;FMTTYPE=image/jpeg:https://es5tphr8wqq.exactdn.com/wp-content/uploa
 ds/2021/10/JerryVivino2019.jpg?strip=all
LOCATION:The Baked Potato
GEO:34.1366405;-118.36314909999999
X-APPLE-STRUCTURED-LOCATION;VALUE=URI;X-ADDRESS=3787 Cahuenga Blvd.\, Studi
 o City\, CA\, 91604\, United States;X-APPLE-RADIUS=100;X-TITLE=The Baked P
 otato:geo:34.1366405,-118.36314909999999
END:VEVENT
BEGIN:VTIMEZONE
TZID:America/Los_Angeles
X-LIC-LOCATION:America/Los_Angeles
BEGIN:STANDARD
DTSTART:20241103T010000
TZOFFSETFROM:-0700
TZOFFSETTO:-0800
TZNAME:PST
END:STANDARD
END:VTIMEZONE
END:VCALENDAR