BEGIN:VCALENDAR
VERSION:2.0
PRODID:-//wp-events-plugin.com//7.2.3.1//EN
TZID:America/Los_Angeles
X-WR-TIMEZONE:America/Los_Angeles
BEGIN:VEVENT
UID:2584@thebakedpotato.com
DTSTART;TZID=America/Los_Angeles:20250613T200000
DTEND;TZID=America/Los_Angeles:20250614T010000
DTSTAMP:20250613T122603Z
URL:https://www.thebakedpotato.com/events/the-lao-tizer-band-june-13-2025/
SUMMARY:The LAO TIZER Band - Friday\, June 13\, 2025 - The Baked Potato - 0
 6/13/2025 - 06/14/2025 - 8:00 pm - 1:00 am
DESCRIPTION:Friday Night\, June 13\, 2025 @ 8pm &amp\; 10pm PST.\nThe LAO T
 IZER Band\nSpecial Guest..\nELLIOTT YAMIN …VOCALS\nANTHONY CRAWFORD …B
 ASS\nDANNY JANKLOW …SAX/FLUTE\nGENE COYE …DRUMS\nMUNYUNGO JACKSON …P
 ERC\nLAO TIZER …MASSIVE KEYS\nSpecial Guest - JP Durand - guitar\nCONTEM
 PORARY JAZZ..\n$40.00 Inside Seating\n$20.00 Patio Seating The PATIO is a 
 "LIVE VIDEO CONCERT"\nyou are NOT inside the Club\n$4.25 PROCESSING FEE ON
  ALL TICKETS BEGINNING AUG 2024
ATTACH;FMTTYPE=image/jpeg:https://es5tphr8wqq.exactdn.com/wp-content/uploa
 ds/2025/03/LAO-TIZER.jpeg?strip=all
LOCATION:The Baked Potato
GEO:34.1366405;-118.36314909999999
X-APPLE-STRUCTURED-LOCATION;VALUE=URI;X-ADDRESS=3787 Cahuenga Blvd.\, Studi
 o City\, CA\, 91604\, United States;X-APPLE-RADIUS=100;X-TITLE=The Baked P
 otato:geo:34.1366405,-118.36314909999999
END:VEVENT
BEGIN:VTIMEZONE
TZID:America/Los_Angeles
X-LIC-LOCATION:America/Los_Angeles
BEGIN:DAYLIGHT
DTSTART:20250309T030000
TZOFFSETFROM:-0800
TZOFFSETTO:-0700
TZNAME:PDT
END:DAYLIGHT
END:VTIMEZONE
END:VCALENDAR