BEGIN:VCALENDAR
VERSION:2.0
PRODID:-//wp-events-plugin.com//7.2.3.1//EN
TZID:America/Los_Angeles
X-WR-TIMEZONE:America/Los_Angeles
BEGIN:VEVENT
UID:1090@thebakedpotato.com
DTSTART;TZID=America/Los_Angeles:20200619T063000
DTEND;TZID=America/Los_Angeles:20200619T233000
DTSTAMP:20200615T142604Z
URL:https://www.thebakedpotato.com/events/webb-all-stars-4/
SUMMARY:Webb All Stars - The Baked Potato - 06/19/2020 - 6:30 am - 11:30 pm
DESCRIPTION:Friday\, June 19\, 2020\n\nThe Webb All Stars\n\nDoug Webb  On 
  Sax \nDanny Carey On Drums From Tool \nJimmy Earl  On Bass From The Kimme
 l Show\nMitch Forman On Keys\nJamie Kime On Guitar\n\nAll Star Jazz\n$30.0
 0 In Person Show\n$ 10.00 Patio\n\nFor Livestream Click Here $8.00\n\n
LOCATION:The Baked Potato
GEO:34.1366405;-118.36314909999999
X-APPLE-STRUCTURED-LOCATION;VALUE=URI;X-ADDRESS=3787 Cahuenga Blvd.\, Studi
 o City\, CA\, 91604\, United States;X-APPLE-RADIUS=100;X-TITLE=The Baked P
 otato:geo:34.1366405,-118.36314909999999
END:VEVENT
BEGIN:VTIMEZONE
TZID:America/Los_Angeles
X-LIC-LOCATION:America/Los_Angeles
BEGIN:DAYLIGHT
DTSTART:20200308T030000
TZOFFSETFROM:-0800
TZOFFSETTO:-0700
TZNAME:PDT
END:DAYLIGHT
END:VTIMEZONE
END:VCALENDAR