BEGIN:VCALENDAR
VERSION:2.0
PRODID:-//wp-events-plugin.com//7.2.3.1//EN
TZID:America/Los_Angeles
X-WR-TIMEZONE:America/Los_Angeles
BEGIN:VEVENT
UID:972@thebakedpotato.com
DTSTART;TZID=America/Los_Angeles:20200121T183000
DTEND;TZID=America/Los_Angeles:20200121T233000
DTSTAMP:20200121T054006Z
URL:https://www.thebakedpotato.com/events/zappa-at-the-baked-potato-4/
SUMMARY:Zappa at the Baked Potato - The Baked Potato - 01/21/2020 - 6:30 pm
  - 11:30 pm
DESCRIPTION:Post NAMM Tuesday\, January 21\, 2020\n\n       Zappa\n\nAt The
  Baked Potato With\n\nRay White...Guitar/Vocals\nRobert Martin...Keys/Sax/
 Vocals\nMike Keneally …Guitar/Vocals\nScott Thunes...Bass\nJoe Travers..
 .Drums/Vocals\n\nAnd Special Guests\n$40.00 9:30 / 35.00 11:30
ATTACH;FMTTYPE=image/jpeg:https://es5tphr8wqq.exactdn.com/wp-content/uploa
 ds/2019/11/ZappaattheBakedPotato2020Red.jpg?strip=all
LOCATION:The Baked Potato
GEO:34.1366405;-118.36314909999999
X-APPLE-STRUCTURED-LOCATION;VALUE=URI;X-ADDRESS=3787 Cahuenga Blvd.\, Studi
 o City\, CA\, 91604\, United States;X-APPLE-RADIUS=100;X-TITLE=The Baked P
 otato:geo:34.1366405,-118.36314909999999
END:VEVENT
BEGIN:VTIMEZONE
TZID:America/Los_Angeles
X-LIC-LOCATION:America/Los_Angeles
BEGIN:STANDARD
DTSTART:20191103T010000
TZOFFSETFROM:-0700
TZOFFSETTO:-0800
TZNAME:PST
END:STANDARD
END:VTIMEZONE
END:VCALENDAR